BEGIN:VCALENDAR
VERSION:2.0
PRODID:-//ChamberMaster//Event Calendar 2.0//EN
METHOD:PUBLISH
X-PUBLISHED-TTL:P3D
REFRESH-INTERVAL:P3D
CALSCALE:GREGORIAN
BEGIN:VEVENT
DTSTART:20130826T153000Z
DTEND:20130826T160000Z
X-MICROSOFT-CDO-ALLDAYEVENT:FALSE
SUMMARY:Ribbon Cutting for Restoring Images Barber & Beauty Shop
DESCRIPTION:Ribbon cutting celebrating Restoring Images Barber & Beauty Shop\n\nMonday\, August 26\, 10:30 am\n\n146 G St Suite A
X-ALT-DESC;FMTTYPE=text/html:Ribbon cutting celebrating Restoring Images Barber &amp\; Beauty Shop<br />\nMonday\, August 26\, 10:30 am<br />\n146 G St Suite A
LOCATION:
UID:e.1327.1092
SEQUENCE:3
DTSTAMP:20260419T165459Z
URL:https://business.kerrvillechamber.biz/events/details/ribbon-cutting-for-restoring-images-barber-beauty-shop-08-26-2013-1092
END:VEVENT

END:VCALENDAR
