BEGIN:VCALENDAR
VERSION:2.0
PRODID:-//ChamberMaster//Event Calendar 2.0//EN
METHOD:PUBLISH
X-PUBLISHED-TTL:P3D
REFRESH-INTERVAL:P3D
CALSCALE:GREGORIAN
BEGIN:VEVENT
DTSTART:20131004T223000Z
DTEND:20131004T230000Z
X-MICROSOFT-CDO-ALLDAYEVENT:FALSE
SUMMARY:Ribbon cutting for The Law Office of Patrick O'Fiel\, PC
DESCRIPTION:The Law Office of Patrick O'Fiel\, PC\n\n200 Earl Garrett Suite 206 (next to Archways Recovery Center and 216 DA's Office)\n\nFriday\, October 4\, 5:30 pm\n\nWineshare Downtown to Follow!
X-ALT-DESC;FMTTYPE=text/html:<span style="font-family:times new roman\,serif\;">The Law Office of Patrick O&#39\;Fiel\, PC</span><br />\n<span style="font-family:times new roman\,serif\;">200 Earl Garrett Suite 206 (next to Archways Recovery Center and 216 DA&rsquo\;s Office)</span><br />\n<span style="font-family:times new roman\,serif\;">Friday\, October 4\, 5:30 pm<br />\n<strong>Wineshare Downtown to Follow!</strong></span><br />\n
LOCATION:
UID:e.1327.1343
SEQUENCE:3
DTSTAMP:20260419T151921Z
URL:https://business.kerrvillechamber.biz/events/details/ribbon-cutting-for-the-law-office-of-patrick-o-fiel-pc-10-04-2013-1343
END:VEVENT

END:VCALENDAR
