BEGIN:VCALENDAR
VERSION:2.0
PRODID:-//ChamberMaster//Event Calendar 2.0//EN
METHOD:PUBLISH
X-PUBLISHED-TTL:P3D
REFRESH-INTERVAL:P3D
CALSCALE:GREGORIAN
BEGIN:VEVENT
DTSTART:20130718T153000Z
DTEND:20130718T160000Z
X-MICROSOFT-CDO-ALLDAYEVENT:FALSE
SUMMARY:Ribbon Cutting for W.O.W. Auto Detailing
DESCRIPTION:Ribbon Cutting celebrating W.O.W. Auto Detailing\n\n203 A Peterson Dr
X-ALT-DESC;FMTTYPE=text/html:Ribbon Cutting celebrating W.O.W. Auto Detailing<br />\n203 A Peterson Dr<br />\n<br />\n
LOCATION:
UID:e.1327.982
SEQUENCE:3
DTSTAMP:20260419T181837Z
URL:https://business.kerrvillechamber.biz/events/details/ribbon-cutting-for-w-o-w-auto-detailing-07-18-2013-982
END:VEVENT

END:VCALENDAR
