BEGIN:VCALENDAR
VERSION:2.0
PRODID:-//ChamberMaster//Event Calendar 2.0//EN
METHOD:PUBLISH
X-PUBLISHED-TTL:P3D
REFRESH-INTERVAL:P3D
CALSCALE:GREGORIAN
BEGIN:VEVENT
DTSTART:20130613T153000Z
DTEND:20130613T160000Z
X-MICROSOFT-CDO-ALLDAYEVENT:FALSE
SUMMARY:Ribbon Cutting for Wishes... My Lingerie
DESCRIPTION:Wishes... My Lingerie Ribbon Cutting \n\nThursday\, June 13th \n\n10:30 am\n\n320 Hwy 39 in Ingram (next door to the Hunter House Caf )
X-ALT-DESC;FMTTYPE=text/html:Wishes... My Lingerie Ribbon Cutting&nbsp\;<br />\nThursday\, June 13th&nbsp\;<br />\n10:30 am<br />\n<span style="font-family:times new roman\,serif\;">320 Hwy 39 in Ingram (next door to the Hunter House Caf&eacute\;)</span><br />\n<br />\n<br />\n
LOCATION:320 Hwy 39 in Ingram (next door to the Hunter House Caf )
UID:e.1327.934
SEQUENCE:3
DTSTAMP:20260419T201136Z
URL:https://business.kerrvillechamber.biz/events/details/ribbon-cutting-for-wishes-my-lingerie-06-13-2013-934
END:VEVENT

END:VCALENDAR
