BEGIN:VCALENDAR
VERSION:2.0
PRODID:-//ChamberMaster//Event Calendar 2.0//EN
METHOD:PUBLISH
X-PUBLISHED-TTL:P3D
REFRESH-INTERVAL:P3D
CALSCALE:GREGORIAN
BEGIN:VEVENT
DTSTART:20121211T203000Z
DTEND:20121211T210000Z
X-MICROSOFT-CDO-ALLDAYEVENT:FALSE
SUMMARY:Ribbon Cutting- Grand Opening Century 21- The Hills Realty
DESCRIPTION:Grand Opening of their new location and customer appreciation day
X-ALT-DESC;FMTTYPE=text/html:Grand Opening of their new location and customer appreciation day
LOCATION:1726 Sidney Baker
UID:e.1327.432
SEQUENCE:3
DTSTAMP:20260420T060214Z
URL:https://business.kerrvillechamber.biz/events/details/ribbon-cutting-grand-opening-century-21-the-hills-realty-12-11-2012-432
END:VEVENT

END:VCALENDAR
