BEGIN:VCALENDAR
VERSION:2.0
PRODID:-//ChamberMaster//Event Calendar 2.0//EN
METHOD:PUBLISH
X-PUBLISHED-TTL:P3D
REFRESH-INTERVAL:P3D
CALSCALE:GREGORIAN
BEGIN:VEVENT
DTSTART:20121216T200000Z
DTEND:20121216T203000Z
X-MICROSOFT-CDO-ALLDAYEVENT:FALSE
SUMMARY:Ribbon Cutting- Grand Opening for Popeyes Louisiana Kitchen
DESCRIPTION:Come and join them for their grand opening with live music\, cake\, popcorn & more!
X-ALT-DESC;FMTTYPE=text/html:<span style="font-size: medium"><span style="font-family: calibri">Come and join them for their grand opening with live music\, cake\, popcorn &amp\; more!</span></span><br />\n
LOCATION:936 Junction Highway (next to Bubba J's Pizza)
UID:e.1327.429
SEQUENCE:3
DTSTAMP:20260420T060021Z
URL:https://business.kerrvillechamber.biz/events/details/ribbon-cutting-grand-opening-for-popeyes-louisiana-kitchen-12-16-2012-429
END:VEVENT

END:VCALENDAR
