BEGIN:VCALENDAR
VERSION:2.0
PRODID:-//ChamberMaster//Event Calendar 2.0//EN
METHOD:PUBLISH
X-PUBLISHED-TTL:P3D
REFRESH-INTERVAL:P3D
CALSCALE:GREGORIAN
BEGIN:VEVENT
DTSTART:20121213T203000Z
DTEND:20121213T210000Z
X-MICROSOFT-CDO-ALLDAYEVENT:FALSE
SUMMARY:Ribbon Cutting- Grand Re-Opening for NewSound Hearing Center
DESCRIPTION:Grand Re-Opening for NewSound Hearing Center
X-ALT-DESC;FMTTYPE=text/html:Grand Re-Opening for NewSound&nbsp\;Hearing Center
LOCATION:Located at 1006 Junction Hwy Suite I (nearby Super S\, Western Beverage\, & Sherwin Williams)
UID:e.1327.409
SEQUENCE:3
DTSTAMP:20260420T073024Z
URL:https://business.kerrvillechamber.biz/events/details/ribbon-cutting-grand-re-opening-for-newsound-hearing-center-12-13-2012-409
END:VEVENT

END:VCALENDAR
