BEGIN:VCALENDAR
VERSION:2.0
PRODID:-//ChamberMaster//Event Calendar 2.0//EN
METHOD:PUBLISH
X-PUBLISHED-TTL:P3D
REFRESH-INTERVAL:P3D
CALSCALE:GREGORIAN
BEGIN:VEVENT
DTSTART:20130412T153000Z
DTEND:20130412T160000Z
X-MICROSOFT-CDO-ALLDAYEVENT:FALSE
SUMMARY:Ribbon Cutting- Hilltop Village Nursing & Rehabilitation Center
DESCRIPTION:Hilltop Village Nursing & Rehabilitation Center\n\nRibbon Cutting celebrating 50 years of service in the Hill Country\n\nFriday\, April 13th 10:30 am\n\n1400 Hilltop Rd. (off Harper Rd)
X-ALT-DESC;FMTTYPE=text/html:<span style="font-size: 16px\;"><span style="font-family: times new roman\,serif\;">Hilltop Village Nursing &amp\; Rehabilitation Center</span><br />\n<span style="font-family: times new roman\,serif\;">Ribbon Cutting celebrating 50 years of service in the Hill Country</span><br />\n<span style="font-family: times new roman\,serif\;">Friday\, April 13<sup>th</sup> 10:30 am</span><br />\n<span style="font-family: times new roman\,serif\;">1400 Hilltop Rd. (off Harper Rd)</span></span><br />\n
LOCATION:
UID:e.1327.708
SEQUENCE:3
DTSTAMP:20260419T225603Z
URL:https://business.kerrvillechamber.biz/events/details/ribbon-cutting-hilltop-village-nursing-rehabilitation-center-04-12-2013-708
END:VEVENT

END:VCALENDAR
