BEGIN:VCALENDAR
VERSION:2.0
PRODID:-//ChamberMaster//Event Calendar 2.0//EN
METHOD:PUBLISH
X-PUBLISHED-TTL:P3D
REFRESH-INTERVAL:P3D
CALSCALE:GREGORIAN
BEGIN:VEVENT
DTSTART:20250627T170000Z
DTEND:20250627T173000Z
X-MICROSOFT-CDO-ALLDAYEVENT:FALSE
SUMMARY:RIBBON CUTTING - Little Gripsters
DESCRIPTION:KACOC RIBBON CUTTING for Little Gripsters
X-ALT-DESC;FMTTYPE=text/html:<span style="color: rgb(51\, 51\, 51)\; font-family: sans-serif\, Arial\, Verdana\, &quot\;Trebuchet MS&quot\;\; font-size: 13px\; background-color: rgb(255\, 255\, 255)\;">KACOC RIBBON CUTTING for Little Gripsters</span>
LOCATION:1700 Sidney Baker St\, Kerrville
UID:e.1327.29162
SEQUENCE:3
DTSTAMP:20260424T011237Z
URL:https://business.kerrvillechamber.biz/events/details/ribbon-cutting-little-gripsters-29162
END:VEVENT

END:VCALENDAR
