BEGIN:VCALENDAR
VERSION:2.0
PRODID:-//ChamberMaster//Event Calendar 2.0//EN
METHOD:PUBLISH
X-PUBLISHED-TTL:P3D
REFRESH-INTERVAL:P3D
CALSCALE:GREGORIAN
BEGIN:VEVENT
DTSTART:20130408T170000Z
DTEND:20130408T173000Z
X-MICROSOFT-CDO-ALLDAYEVENT:FALSE
SUMMARY:Ribbon Cutting- Salvation Army Family Store Grand Re-Opening
DESCRIPTION:Salvation Army Family Store Grand Re-Opening Ribbon Cutting\n\nMonday\, April 8th\, 12:00 pm\n\n500 Jefferson St
X-ALT-DESC;FMTTYPE=text/html:<span style="font-size: 16px\;"><span style="font-family: times new roman\;">Salvation Army Family Store Grand Re-Opening Ribbon Cutting<br />\nMonday\, April 8<sup>th</sup>\, 12:00 pm<br />\n500 Jefferson St</span></span><br />\n
LOCATION:
UID:e.1327.707
SEQUENCE:3
DTSTAMP:20260420T004628Z
URL:https://business.kerrvillechamber.biz/events/details/ribbon-cutting-salvation-army-family-store-grand-re-opening-04-08-2013-707
END:VEVENT

END:VCALENDAR
