BEGIN:VCALENDAR
VERSION:2.0
PRODID:-//ChamberMaster//Event Calendar 2.0//EN
METHOD:PUBLISH
X-PUBLISHED-TTL:P3D
REFRESH-INTERVAL:P3D
CALSCALE:GREGORIAN
BEGIN:VEVENT
DTSTART:20250613T170000Z
DTEND:20250613T173000Z
X-MICROSOFT-CDO-ALLDAYEVENT:FALSE
SUMMARY:RIBBON CUTTING - Tamayo Masonry
DESCRIPTION:KACOC RIBBON CUTTING for Tamayo Masonry
X-ALT-DESC;FMTTYPE=text/html:KACOC RIBBON CUTTING for Tamayo Masonry
LOCATION:95 B & M Lane\, Fredericksburg
UID:e.1327.29157
SEQUENCE:3
DTSTAMP:20260424T010322Z
URL:https://business.kerrvillechamber.biz/events/details/ribbon-cutting-tamayo-masonry-29157
END:VEVENT

END:VCALENDAR
