BEGIN:VCALENDAR
VERSION:2.0
PRODID:-//ChamberMaster//Event Calendar 2.0//EN
METHOD:PUBLISH
X-PUBLISHED-TTL:P3D
REFRESH-INTERVAL:P3D
CALSCALE:GREGORIAN
BEGIN:VEVENT
DTSTART:20130115T203000Z
DTEND:20130115T210000Z
X-MICROSOFT-CDO-ALLDAYEVENT:FALSE
SUMMARY:Ribbon Cutting- Vemma
DESCRIPTION:Vemma Ribbon Cutting
X-ALT-DESC;FMTTYPE=text/html:Vemma Ribbon Cutting&nbsp\;&nbsp\;&nbsp\;&nbsp\;
LOCATION:Chamber Office 1700 Sidney Baker Ste 100
UID:e.1327.537
SEQUENCE:3
DTSTAMP:20260420T035834Z
URL:https://business.kerrvillechamber.biz/events/details/ribbon-cutting-vemma-01-15-2013-537
END:VEVENT

END:VCALENDAR
