BEGIN:VCALENDAR
VERSION:2.0
PRODID:-//ChamberMaster//Event Calendar 2.0//EN
METHOD:PUBLISH
X-PUBLISHED-TTL:P3D
REFRESH-INTERVAL:P3D
CALSCALE:GREGORIAN
BEGIN:VEVENT
DTSTART:20130728T000000Z
DTEND:20130728T010000Z
X-MICROSOFT-CDO-ALLDAYEVENT:FALSE
SUMMARY:Riverside Nature Center presents 'Herbs at Twilight'
DESCRIPTION:Learn how to provide "a moment of relaxation" via herbs that soothe the nervous system.  Taught by Amy coward and Sally Garrett.
X-ALT-DESC;FMTTYPE=text/html:Learn how to provide &quot\;a moment of relaxation&quot\; via herbs that soothe the nervous system.&nbsp\; Taught by Amy coward and Sally Garrett.
LOCATION:Riverside Nature Center\, 150 Francisco Lemos St.\, Kerrville
UID:e.1327.976
SEQUENCE:3
DTSTAMP:20260419T195112Z
URL:https://business.kerrvillechamber.biz/events/details/riverside-nature-center-presents-herbs-at-twilight-07-27-2013-976
END:VEVENT

END:VCALENDAR
