BEGIN:VCALENDAR
VERSION:2.0
PRODID:-//ChamberMaster//Event Calendar 2.0//EN
METHOD:PUBLISH
X-PUBLISHED-TTL:P3D
REFRESH-INTERVAL:P3D
CALSCALE:GREGORIAN
BEGIN:VEVENT
DTSTART:20130405T223000Z
DTEND:20130405T230000Z
X-MICROSOFT-CDO-ALLDAYEVENT:FALSE
SUMMARY:Riverside Nature Center Ribbon Cutting
DESCRIPTION:Ribbon Cutting at Riverside Nature Center\n\nWine Share to follow
X-ALT-DESC;FMTTYPE=text/html:Ribbon Cutting at Riverside Nature Center<br />\nWine Share to follow
LOCATION:Riverside Nature Center
UID:e.1327.604
SEQUENCE:3
DTSTAMP:20260419T225016Z
URL:https://business.kerrvillechamber.biz/events/details/riverside-nature-center-ribbon-cutting-04-05-2013-604
END:VEVENT

END:VCALENDAR
