BEGIN:VCALENDAR
VERSION:2.0
PRODID:-//ChamberMaster//Event Calendar 2.0//EN
METHOD:PUBLISH
X-PUBLISHED-TTL:P3D
REFRESH-INTERVAL:P3D
CALSCALE:GREGORIAN
BEGIN:VEVENT
DTSTART:20130219T163000Z
DTEND:20130219T170000Z
X-MICROSOFT-CDO-ALLDAYEVENT:FALSE
SUMMARY:Roberts Auto Sales Grand Opening
DESCRIPTION:Celebrating the Grand Opening of 2nd Location
X-ALT-DESC;FMTTYPE=text/html:<p>\n	Celebrating the Grand Opening of 2nd Location</p>\n
LOCATION:1918 Junction Highway
UID:e.1327.427
SEQUENCE:3
DTSTAMP:20260420T035046Z
URL:https://business.kerrvillechamber.biz/events/details/roberts-auto-sales-grand-opening-02-19-2013-427
END:VEVENT

END:VCALENDAR
