BEGIN:VCALENDAR
VERSION:2.0
PRODID:-//ChamberMaster//Event Calendar 2.0//EN
METHOD:PUBLISH
X-PUBLISHED-TTL:P3D
REFRESH-INTERVAL:P3D
CALSCALE:GREGORIAN
BEGIN:VEVENT
DTSTART;VALUE=DATE:20141011
DTEND;VALUE=DATE:20141013
TRANSP:TRANSPARENT
X-MICROSOFT-CDO-ALLDAYEVENT:TRUE
SUMMARY:Rummage Sale
DESCRIPTION:Antiques\, Collectables\, Book Nook\, and Rummage Sale Large collection of donations and so many areas to browse. In 3000 sq. ft bldg! All proceeds go to shelter animals. Going E on Hwy 27\, first left beyond VA Hosp. entrance. Go .8 of a mile to Gate on left.
X-ALT-DESC;FMTTYPE=text/html:Antiques\, Collectables\, Book Nook\, and Rummage Sale Large collection of donations and so many areas to browse. In 3000 sq. ft bldg! All proceeds go to shelter animals. Going E on Hwy 27\, first left beyond VA Hosp. entrance. Go .8 of a mile to Gate on left.
LOCATION:Freeman-Fritts Facility\, 515 Spur 100 Kerrville
UID:e.1327.2716
SEQUENCE:3
DTSTAMP:20260424T063849Z
URL:https://business.kerrvillechamber.biz/events/details/rummage-sale-10-11-2014-2716
END:VEVENT

END:VCALENDAR
