BEGIN:VCALENDAR
VERSION:2.0
PRODID:-//ChamberMaster//Event Calendar 2.0//EN
METHOD:PUBLISH
X-PUBLISHED-TTL:P3D
REFRESH-INTERVAL:P3D
CALSCALE:GREGORIAN
BEGIN:VEVENT
DTSTART:20150116T230000Z
DTEND:20150117T000000Z
X-MICROSOFT-CDO-ALLDAYEVENT:FALSE
SUMMARY:Schreiner University Athletic & Event Center Ribbon Cutting
DESCRIPTION:Schreiner University Athletic & Event Center Ribbon Cutting\, 5-6 pm\, Schreiner University\, 2100 Memorial Blvd.
X-ALT-DESC;FMTTYPE=text/html:Schreiner University Athletic &amp\; Event Center Ribbon Cutting\, 5-6 pm\, Schreiner University\, 2100 Memorial Blvd.
LOCATION:
UID:e.1327.4289
SEQUENCE:3
DTSTAMP:20260424T012637Z
URL:https://business.kerrvillechamber.biz/events/details/schreiner-university-athletic-event-center-ribbon-cutting-01-16-2015-4289
END:VEVENT

END:VCALENDAR
