BEGIN:VCALENDAR
VERSION:2.0
PRODID:-//ChamberMaster//Event Calendar 2.0//EN
METHOD:PUBLISH
X-PUBLISHED-TTL:P3D
REFRESH-INTERVAL:P3D
CALSCALE:GREGORIAN
BEGIN:VEVENT
DTSTART;VALUE=DATE:20121216
DTEND;VALUE=DATE:20121217
TRANSP:TRANSPARENT
X-MICROSOFT-CDO-ALLDAYEVENT:TRUE
SUMMARY:Season of Joy- A Celtic Christmas Celebration
DESCRIPTION:Presented by Trinity's Christmas Singers\n\n\n\n*Childcare available for infants thru age 3
X-ALT-DESC;FMTTYPE=text/html:Presented by Trinity&#39\;s Christmas Singers<br />\n<br />\n*Childcare available for infants thru age 3
LOCATION:Trinity Baptist Church 800 Jackson Road in Gym
UID:e.1327.443
SEQUENCE:3
DTSTAMP:20260420T055659Z
URL:https://business.kerrvillechamber.biz/events/details/season-of-joy-a-celtic-christmas-celebration-12-16-2012-443
END:VEVENT

END:VCALENDAR
