BEGIN:VCALENDAR
VERSION:2.0
PRODID:-//ChamberMaster//Event Calendar 2.0//EN
METHOD:PUBLISH
X-PUBLISHED-TTL:P3D
REFRESH-INTERVAL:P3D
CALSCALE:GREGORIAN
BEGIN:VEVENT
DTSTART:20250913T230000Z
DTEND:20250914T020000Z
X-MICROSOFT-CDO-ALLDAYEVENT:FALSE
SUMMARY:Second Saturday Speakeasy Event
DESCRIPTION:Second Saturday Speakeasy...every Second Saturday of the month enjoy an evening you won't want to miss...\n\n\n\nStep into an evening of live blues and jazz\, paired with exclusive wine and tapas in an intimate\, speakeasy-style setting.  \n\n\n\nReservations required...secure your spot for a night of music\, flavor\, and time-less ambiance. \n\n\n\nText SSSN to 830-353-2663 for special admittance instructions and your entrance code for the evening.
X-ALT-DESC;FMTTYPE=text/html:Second Saturday Speakeasy...every Second Saturday of the month enjoy an evening you won&#39\;t want to miss...<br />\n<br />\nStep into an evening of live blues and jazz\, paired with exclusive wine and tapas in an intimate\, speakeasy-style setting.&nbsp\;&nbsp\;<br />\n<br />\nReservations required...secure your spot for a night of music\, flavor\, and time-less ambiance.&nbsp\;<br />\n<br />\nText SSSN to 830-353-2663 for special admittance instructions and your entrance code for the evening.&nbsp\;
LOCATION:810 Avenue A\, Suite B Comfort\, Texas
UID:e.1327.28941
SEQUENCE:3
DTSTAMP:20260426T025233Z
URL:https://business.kerrvillechamber.biz/events/details/second-saturday-speakeasy-event-09-13-2025-28941
END:VEVENT

END:VCALENDAR
