BEGIN:VCALENDAR
VERSION:2.0
PRODID:-//ChamberMaster//Event Calendar 2.0//EN
METHOD:PUBLISH
X-PUBLISHED-TTL:P3D
REFRESH-INTERVAL:P3D
CALSCALE:GREGORIAN
BEGIN:VEVENT
DTSTART:20130409T163000Z
DTEND:20130409T174500Z
X-MICROSOFT-CDO-ALLDAYEVENT:FALSE
SUMMARY:SECOND TUESDAY BROWN BAG LUNCH & LEARN
DESCRIPTION:"Fire-wise Landscaping\," presented by certified Master Gardeners and fire-wise landscaping specialists Carol Hagemeier and Leigh Thomas will speak on the best ways to protect your landscaping in case of a fire. Bring your lunch and a store of questions. Arrive in time to get a good seat.
X-ALT-DESC;FMTTYPE=text/html:&quot\;Fire-wise Landscaping\,&quot\; presented by certified Master Gardeners and fire-wise landscaping specialists Carol Hagemeier and Leigh Thomas will speak on the best ways to protect your landscaping in case of a fire. Bring your lunch and a store of questions. Arrive in time to get a good seat.
LOCATION:Riverside Nature Center\, 150 Francisco Lemos St.\, Kerrville
UID:e.1327.680
SEQUENCE:3
DTSTAMP:20260419T224557Z
URL:https://business.kerrvillechamber.biz/events/details/second-tuesday-brown-bag-lunch-learn-04-09-2013-680
END:VEVENT

END:VCALENDAR
