BEGIN:VCALENDAR
VERSION:2.0
PRODID:-//ChamberMaster//Event Calendar 2.0//EN
METHOD:PUBLISH
X-PUBLISHED-TTL:P3D
REFRESH-INTERVAL:P3D
CALSCALE:GREGORIAN
BEGIN:VEVENT
DTSTART:20130514T163000Z
DTEND:20130514T174500Z
X-MICROSOFT-CDO-ALLDAYEVENT:FALSE
SUMMARY:'Seeds\, the Fruit of the Matter' at RNC Brown Bag Lunch & Learn
DESCRIPTION:Master gleaners Barbara Lowenthal and Susan Longacre will teach the seed phase of native plants\, and how to harvest those seeds--what to look for\, when to glean\, how to clean and store. Hands-on seed cleaning with a great variety of seeds on display.\n\n	\n\n	Lowenthal is the center's meadow supervisor\, and her presentations are always well attended. Arrive in time to get a good seat\, and don't forget your lunch.
X-ALT-DESC;FMTTYPE=text/html:<p class="MsoNormal">\n	<span style="font-size: 12pt\; line-height: 115%\; background-position: initial initial\; background-repeat: initial initial\;">Master gleaners Barbara Lowenthal and Susan Longacre will teach the seed phase of native plants\, and how to harvest those seeds--</span><span style="font-size: 12pt\; line-height: 115%\;">w</span><span style="font-size: 12pt\; line-height: 115%\;">hat to look for\, when to glean\, how to clean and store. Hands-on seed cleaning with a great variety of seeds on display.<br />\n	<br />\n	Lowenthal is the center&rsquo\;s meadow supervisor\, and her presentations are always well attended. Arrive in time to get a good seat\, and don&rsquo\;t forget your lunch.&nbsp\;</span><span style="font-size: 12pt\; line-height: 115%\; background-position: initial initial\; background-repeat: initial initial\;"><o:p></o:p></span></p>\n
LOCATION:Riverside Nature Center\, 150 Francisco Lemos St.\, Kerrville
UID:e.1327.922
SEQUENCE:3
DTSTAMP:20260419T225445Z
URL:https://business.kerrvillechamber.biz/events/details/seeds-the-fruit-of-the-matter-at-rnc-brown-bag-lunch-learn-05-14-2013-922
END:VEVENT

END:VCALENDAR
