BEGIN:VCALENDAR
VERSION:2.0
PRODID:-//ChamberMaster//Event Calendar 2.0//EN
METHOD:PUBLISH
X-PUBLISHED-TTL:P3D
REFRESH-INTERVAL:P3D
CALSCALE:GREGORIAN
BEGIN:VEVENT
DTSTART:20130314T220000Z
DTEND:20130315T013000Z
X-MICROSOFT-CDO-ALLDAYEVENT:FALSE
SUMMARY:Shoe Party
DESCRIPTION:Come join us for the SHOE PARTY on March 14 5pm-8:30pm. Enjoy refreashments while saving on the newest fashions for your footwear. Hope to see you there. (refreashments while they last)
X-ALT-DESC;FMTTYPE=text/html:Come join us for the SHOE PARTY on March 14 5pm-8:30pm. Enjoy refreashments while saving on the newest fashions for your footwear. Hope to see you there. (refreashments while they last) 
LOCATION:Belk. Inc River Center Mall
UID:e.1327.651
SEQUENCE:3
DTSTAMP:20260420T021202Z
URL:https://business.kerrvillechamber.biz/events/details/shoe-party-03-14-2013-651
END:VEVENT

END:VCALENDAR
