BEGIN:VCALENDAR
VERSION:2.0
PRODID:-//ChamberMaster//Event Calendar 2.0//EN
METHOD:PUBLISH
X-PUBLISHED-TTL:P3D
REFRESH-INTERVAL:P3D
CALSCALE:GREGORIAN
BEGIN:VEVENT
DTSTART:20130905T220000Z
DTEND:20130906T010000Z
X-MICROSOFT-CDO-ALLDAYEVENT:FALSE
SUMMARY:Showcase Kerrville\, Taste of Kerrville and Job Fair
DESCRIPTION:Showcase Kerrville is an event held to showcase our member businesses and organizations. It's a great opportunity to introduce yourself\, promote your business\, and show the other members of the Kerrville Area Chamber of Commerce and the community what you have that makes you great! It is also an opportunity to search for new employees!\n\n\n\n$125 per table\n\nRestaurants are encouraged to bring samples.\n\n\n\nCome enjoy face-to-face marketing at its best!\n\nPublic is invited. FREE to attend!\n\n\n\nContact the Chamber today to reserve your table space!
X-ALT-DESC;FMTTYPE=text/html:<span style="font-size:14px\;"><span style="font-family:verdana\;"><strong>Showcase Kerrvill</strong>e is an event held to showcase our member businesses and organizations. It&#39\;s a great opportunity to introduce yourself\, promote your business\, and show the other members of the Kerrville Area Chamber of Commerce and the community what you have that makes you great! It is also an opportunity to search for new employees!<br />\n<br />\n$125 per table<br />\nRestaurants are encouraged to bring samples.<br />\n<br />\nCome enjoy face-to-face marketing at its best!<br />\nPublic is invited. FREE to attend!<br />\n<br />\nContact the Chamber today to reserve your table space!</span></span>
LOCATION:Y.O. Ranch Resort Hotel and Conference Center Ballroom
UID:e.1327.1098
SEQUENCE:3
DTSTAMP:20260419T152130Z
URL:https://business.kerrvillechamber.biz/events/details/showcase-kerrville-taste-of-kerrville-and-job-fair-09-05-2013-1098
END:VEVENT

END:VCALENDAR
