BEGIN:VCALENDAR
VERSION:2.0
PRODID:-//ChamberMaster//Event Calendar 2.0//EN
METHOD:PUBLISH
X-PUBLISHED-TTL:P3D
REFRESH-INTERVAL:P3D
CALSCALE:GREGORIAN
BEGIN:VEVENT
DTSTART:20150424T140000Z
DTEND:20150424T180000Z
X-MICROSOFT-CDO-ALLDAYEVENT:FALSE
SUMMARY:Shred Day
DESCRIPTION:Community Shred Day\, 2 Trucks This Year
X-ALT-DESC;FMTTYPE=text/html:Community Shred Day\, 2 Trucks This Year
LOCATION:River Hills Mall behind Belk Department Store
UID:e.1327.4461
SEQUENCE:3
DTSTAMP:20260423T200951Z
URL:https://business.kerrvillechamber.biz/events/details/shred-day-04-24-2015-4461
END:VEVENT

END:VCALENDAR
