BEGIN:VCALENDAR
VERSION:2.0
PRODID:-//ChamberMaster//Event Calendar 2.0//EN
METHOD:PUBLISH
X-PUBLISHED-TTL:P3D
REFRESH-INTERVAL:P3D
CALSCALE:GREGORIAN
BEGIN:VEVENT
DTSTART:20141024T140000Z
DTEND:20141024T180000Z
X-MICROSOFT-CDO-ALLDAYEVENT:FALSE
SUMMARY:Shred Day
DESCRIPTION:Kerrville Area Chamber of Commerce Community Shred Day
X-ALT-DESC;FMTTYPE=text/html:Kerrville Area Chamber of Commerce Community Shred Day
LOCATION:River Hill Mall behind Belks Department Store
UID:e.1327.2722
SEQUENCE:3
DTSTAMP:20260424T063757Z
URL:https://business.kerrvillechamber.biz/events/details/shred-day-10-24-2014-2722
END:VEVENT

END:VCALENDAR
