BEGIN:VCALENDAR
VERSION:2.0
PRODID:-//ChamberMaster//Event Calendar 2.0//EN
METHOD:PUBLISH
X-PUBLISHED-TTL:P3D
REFRESH-INTERVAL:P3D
CALSCALE:GREGORIAN
BEGIN:VEVENT
DTSTART:20151030T140000Z
DTEND:20151030T180000Z
X-MICROSOFT-CDO-ALLDAYEVENT:FALSE
SUMMARY:Shred Day
DESCRIPTION:Member/Community Shred Day
X-ALT-DESC;FMTTYPE=text/html:Member/Community Shred Day
LOCATION:River Hills Mall behind Belk Department Store
UID:e.1327.6862
SEQUENCE:3
DTSTAMP:20260423T065131Z
URL:https://business.kerrvillechamber.biz/events/details/shred-day-10-30-2015-6862
END:VEVENT

END:VCALENDAR
