BEGIN:VCALENDAR
VERSION:2.0
PRODID:-//ChamberMaster//Event Calendar 2.0//EN
METHOD:PUBLISH
X-PUBLISHED-TTL:P3D
REFRESH-INTERVAL:P3D
CALSCALE:GREGORIAN
BEGIN:VEVENT
DTSTART;VALUE=DATE:20131122
DTEND;VALUE=DATE:20131125
TRANSP:TRANSPARENT
X-MICROSOFT-CDO-ALLDAYEVENT:TRUE
SUMMARY:Sleigh Bell Boutique
DESCRIPTION:THE place to start your holiday shopping. Shop with over 30 Hill Country  vendors for all your holiday needs - holiday decorations\, jewelry\, apparel\, furniture\, gifts\, windchimes\, Texas pecans\, men's gifts\, boots\, hats\, & so much more.  Have Breakfast with Santa on Saturday\, November 23.  This ticketed event benefits the Kerr County YMCA.  Tickets are available through the website.  Free visits and pictures with Santa on Sunday\, November 24 from 11am-2pm.  Bring your camera for awesome pictures and enjoy the parade of trees\, Christmas sleigh and holiday decorations.  Show hours allow you plenty of time to enjoy all the Kerrville holiday festivities.  Shop until 6pm on Friday\, and until 4pm on Saturday when you can head downtown for the Christmas parade and city tree lighting.  Relax on Sunday and shop 10am-3pm and visit with Santa too.
X-ALT-DESC;FMTTYPE=text/html:THE place to start your holiday shopping. Shop with over 30 Hill Country &nbsp\;vendors for all your holiday needs - holiday decorations\, jewelry\, apparel\, furniture\, gifts\, windchimes\, Texas pecans\, men&#39\;s gifts\, boots\, hats\, &amp\; so much more.&nbsp\; Have Breakfast with Santa on Saturday\, November 23.&nbsp\; This ticketed event benefits the Kerr County YMCA.&nbsp\; Tickets are available through the website.&nbsp\; Free visits and pictures with Santa on Sunday\, November 24 from 11am-2pm.&nbsp\; Bring your camera for awesome pictures and enjoy the parade of trees\, Christmas sleigh and holiday decorations.&nbsp\; Show hours allow you plenty of time to enjoy all the Kerrville holiday festivities.&nbsp\; Shop until 6pm on Friday\, and until 4pm on Saturday when you can head downtown for the Christmas parade and city tree lighting.&nbsp\; Relax on Sunday and shop 10am-3pm and visit with Santa too.
LOCATION:YO Ranch Hotel
UID:e.1327.1570
SEQUENCE:3
DTSTAMP:20260419T132702Z
URL:https://business.kerrvillechamber.biz/events/details/sleigh-bell-boutique-11-22-2013-1570
END:VEVENT

END:VCALENDAR
