BEGIN:VCALENDAR
VERSION:2.0
PRODID:-//ChamberMaster//Event Calendar 2.0//EN
METHOD:PUBLISH
X-PUBLISHED-TTL:P3D
REFRESH-INTERVAL:P3D
CALSCALE:GREGORIAN
BEGIN:VEVENT
DTSTART:20250705T140000Z
DTEND:20250705T180000Z
X-MICROSOFT-CDO-ALLDAYEVENT:FALSE
SUMMARY:Smithsonian Institute Presents: Crossroads “Change in rural America”
DESCRIPTION:Join us for a short film exploring the River Oaks Courts and the rich history of Medina.
X-ALT-DESC;FMTTYPE=text/html:<strong>Join us for a short film exploring the River Oaks Courts and the rich history of Medina.&nbsp\;</strong>
LOCATION:River Oaks Courts The Art House Caf 14349 Highway 16 N. Medina\, TX 78055
UID:e.1327.29179
SEQUENCE:3
DTSTAMP:20260423T213818Z
URL:https://business.kerrvillechamber.biz/events/details/smithsonian-institute-presents-crossroads-change-in-rural-america-29179
END:VEVENT

END:VCALENDAR
