BEGIN:VCALENDAR
VERSION:2.0
PRODID:-//ChamberMaster//Event Calendar 2.0//EN
METHOD:PUBLISH
X-PUBLISHED-TTL:P3D
REFRESH-INTERVAL:P3D
CALSCALE:GREGORIAN
BEGIN:VEVENT
DTSTART:20130523T150000Z
DTEND:20130611T210000Z
X-MICROSOFT-CDO-ALLDAYEVENT:FALSE
SUMMARY:Southwest Gourd Fine Art Show
DESCRIPTION:Southwest Gourd Fine Art Show.  National competition of the best gourd artist in America. Presented by the Kerr Arts & Cultural Center
X-ALT-DESC;FMTTYPE=text/html:Southwest Gourd Fine Art Show.&nbsp\; National competition of the best gourd artist in America. Presented by the Kerr Arts &amp\; Cultural Center
LOCATION:Kerr Arts & Cultural Center\, 228 Earl Garrett St.
UID:e.1327.929
SEQUENCE:3
DTSTAMP:20260419T213424Z
URL:https://business.kerrvillechamber.biz/events/details/southwest-gourd-fine-art-show-05-23-2013-929
END:VEVENT

END:VCALENDAR
