BEGIN:VCALENDAR
VERSION:2.0
PRODID:-//ChamberMaster//Event Calendar 2.0//EN
METHOD:PUBLISH
X-PUBLISHED-TTL:P3D
REFRESH-INTERVAL:P3D
CALSCALE:GREGORIAN
BEGIN:VEVENT
DTSTART:20130316T190000Z
DTEND:20130316T220000Z
X-MICROSOFT-CDO-ALLDAYEVENT:FALSE
SUMMARY:St Patricks Mystery Murder Dinner @ Kerrville Hills Winery
DESCRIPTION:Come enjoy an Irish dinner paired with two different KHW wines and play our mystery game to see who killed Patrick Flaherty
X-ALT-DESC;FMTTYPE=text/html:Come enjoy an Irish dinner paired with two different KHW wines and play our mystery game to see who killed Patrick Flaherty
LOCATION:Kerrville Hills Winery 3600 Fredericksburg Rd. Kerrville\, TX 78028
UID:e.1327.645
SEQUENCE:3
DTSTAMP:20260420T003314Z
URL:https://business.kerrvillechamber.biz/events/details/st-patricks-mystery-murder-dinner-kerrville-hills-winery-03-16-2013-645
END:VEVENT

END:VCALENDAR
