BEGIN:VCALENDAR
VERSION:2.0
PRODID:-//ChamberMaster//Event Calendar 2.0//EN
METHOD:PUBLISH
X-PUBLISHED-TTL:P3D
REFRESH-INTERVAL:P3D
CALSCALE:GREGORIAN
BEGIN:VEVENT
DTSTART:20130415T193000Z
DTEND:20130415T200000Z
X-MICROSOFT-CDO-ALLDAYEVENT:FALSE
SUMMARY:Sweets Ribbon Cutting & Grand Opening
DESCRIPTION:Sweets Ribbon Cutting- Grand Opening!\n\nCoffee and Ice Cream Shop\n\nMonday\, April 15\, 2:30 pm\n\n1220 Broadway
X-ALT-DESC;FMTTYPE=text/html:<span style="font-size: 12px\;"><span style="font-family: arial\;">Sweets Ribbon Cutting- Grand Opening!<br />\nCoffee and Ice Cream Shop<br />\nMonday\, April 15\, 2:30 pm<br />\n1220 Broadway&nbsp\;<br />\n&nbsp\;</span></span><br />\n<br />\n
LOCATION:
UID:e.1327.709
SEQUENCE:3
DTSTAMP:20260419T225016Z
URL:https://business.kerrvillechamber.biz/events/details/sweets-ribbon-cutting-grand-opening-04-15-2013-709
END:VEVENT

END:VCALENDAR
