BEGIN:VCALENDAR
VERSION:2.0
PRODID:-//ChamberMaster//Event Calendar 2.0//EN
METHOD:PUBLISH
X-PUBLISHED-TTL:P3D
REFRESH-INTERVAL:P3D
CALSCALE:GREGORIAN
BEGIN:VEVENT
DTSTART:20130308T013000Z
DTEND:20130308T033000Z
X-MICROSOFT-CDO-ALLDAYEVENT:FALSE
SUMMARY:Symphony of the Hills-If The Schu Fits
DESCRIPTION:830-792-7469. www.symphonyofthehills.org\n\n	Kathleen C. Cailloux Theater\, 910 Main St.
X-ALT-DESC;FMTTYPE=text/html:<p>\n	830-792-7469. www.symphonyofthehills.org</p>\n<p>\n	Kathleen C. Cailloux Theater\, 910 Main St.</p>\n
LOCATION:
UID:e.1327.476
SEQUENCE:3
DTSTAMP:20260420T022828Z
URL:https://business.kerrvillechamber.biz/events/details/symphony-of-the-hills-if-the-schu-fits-03-07-2013-476
END:VEVENT

END:VCALENDAR
