BEGIN:VCALENDAR
VERSION:2.0
PRODID:-//ChamberMaster//Event Calendar 2.0//EN
METHOD:PUBLISH
X-PUBLISHED-TTL:P3D
REFRESH-INTERVAL:P3D
CALSCALE:GREGORIAN
BEGIN:VEVENT
DTSTART:20130113T013000Z
DTEND:20130113T040000Z
X-MICROSOFT-CDO-ALLDAYEVENT:FALSE
SUMMARY:Symphony of the Hills-Symphony POPS From Broadway To Hollywood
DESCRIPTION:Saturday 7:30pm\, 830-792-7469. www.symphonyofthehills.org\n\n	Kathleen C. Cailloux Theater\, 910 Main St.
X-ALT-DESC;FMTTYPE=text/html:<p>\n	Saturday 7:30pm\, 830-792-7469. www.symphonyofthehills.org</p>\n<p>\n	Kathleen C. Cailloux Theater\, 910 Main St.</p>\n
LOCATION:
UID:e.1327.457
SEQUENCE:3
DTSTAMP:20260420T054738Z
URL:https://business.kerrvillechamber.biz/events/details/symphony-of-the-hills-symphony-pops-from-broadway-to-hollywood-01-12-2013-457
END:VEVENT

END:VCALENDAR
