BEGIN:VCALENDAR
VERSION:2.0
PRODID:-//ChamberMaster//Event Calendar 2.0//EN
METHOD:PUBLISH
X-PUBLISHED-TTL:P3D
REFRESH-INTERVAL:P3D
CALSCALE:GREGORIAN
BEGIN:VEVENT
DTSTART:20250612T200000Z
DTEND:20250612T203000Z
X-MICROSOFT-CDO-ALLDAYEVENT:FALSE
SUMMARY:RIBBON CUTTING - Tailchasers Patio + Pub
DESCRIPTION:KACOC RIBBON CUTTING for Tailchasers Patio + Pub
X-ALT-DESC;FMTTYPE=text/html:KACOC RIBBON CUTTING for&nbsp\;Tailchasers Patio + Pub&nbsp\;
LOCATION:516 Jefferson St\, Kerrville
UID:e.1327.29159
SEQUENCE:3
DTSTAMP:20260424T005816Z
URL:https://business.kerrvillechamber.biz/events/details/tailchasers-patio-pub-29159
END:VEVENT

END:VCALENDAR
