BEGIN:VCALENDAR
VERSION:2.0
PRODID:-//ChamberMaster//Event Calendar 2.0//EN
METHOD:PUBLISH
X-PUBLISHED-TTL:P3D
REFRESH-INTERVAL:P3D
CALSCALE:GREGORIAN
BEGIN:VEVENT
DTSTART:20250919T170000Z
DTEND:20250919T173000Z
X-MICROSOFT-CDO-ALLDAYEVENT:FALSE
SUMMARY:Tamayo's Masonry
DESCRIPTION:KACOC Ribbon Cutting for Tamayo's Masonry
X-ALT-DESC;FMTTYPE=text/html:KACOC Ribbon Cutting for Tamayo&#39\;s Masonry
LOCATION:1700 Sidney Baker St STE 100\, Kerrville\, TX 78028
UID:e.1327.29217
SEQUENCE:3
DTSTAMP:20260421T030059Z
URL:https://business.kerrvillechamber.biz/events/details/tamayo-s-masonry-29217
END:VEVENT

END:VCALENDAR
