BEGIN:VCALENDAR
VERSION:2.0
PRODID:-//ChamberMaster//Event Calendar 2.0//EN
METHOD:PUBLISH
X-PUBLISHED-TTL:P3D
REFRESH-INTERVAL:P3D
CALSCALE:GREGORIAN
BEGIN:VEVENT
DTSTART:20141202T210000Z
DTEND:20141202T230000Z
X-MICROSOFT-CDO-ALLDAYEVENT:FALSE
SUMMARY:TAX PLANNING 2014 OPEN HOUSE
DESCRIPTION:TAX PLANNING 2014 OPEN HOUSE\n\nLocation:  Chamber of Commerce Conference Room\n\nTuesday\, December 2\, 2014\n\n3:00-5:00\n\nAre you ready for tax time?\n\nHow is the Affordable Care act going to impact you\, the tax payer?\n\nAre you a Homeowner\, there are changes coming this year?\n\nSmall Business Owner changes for tax credits?\n\nBring your tax questions and join us \n\nFree Tax Planning check list and guide for all registered guests\n\nDrawing to be held for a $100 gift certificate for 2014 tax preparation fees\n\n \n\nPST Bookkeeping and Tax Services\, LLC\n\n(830)928-9642\n\n \n\nSponsored by:  Kerrville Aviation
X-ALT-DESC;FMTTYPE=text/html:<strong><span style="font-size: 12pt\;"><span style="font-family: calibri\;">TAX PLANNING 2014 OPEN HOUSE</span></span></strong><br />\n<strong><span style="font-size: 12pt\;"><span style="font-family: calibri\;">Location:&nbsp\; Chamber of Commerce Conference Room</span></span></strong><br />\n<strong><span style="font-size: 12pt\;"><span style="font-family: calibri\;">Tuesday\, December 2\, 2014</span></span></strong><br />\n<strong><span style="font-size: 12pt\;"><span style="font-family: calibri\;">3:00-5:00</span></span></strong><br />\n<span style="font-size: 12pt\;"><span style="font-family: calibri\;">Are you ready for tax time?</span></span><br />\n<span style="font-size: 12pt\;"><span style="font-family: calibri\;">How is the Affordable Care act going to impact you\, the tax payer?</span></span><br />\n<span style="font-size: 12pt\;"><span style="font-family: calibri\;">Are you a Homeowner\, there are changes coming this year?</span></span><br />\n<span style="font-size: 12pt\;"><span style="font-family: calibri\;">Small Business Owner changes for tax credits?</span></span><br />\n<span style="font-size: 12pt\;"><span style="font-family: calibri\;">Bring your tax questions and join us </span></span><br />\n<span style="font-size: 12pt\;"><span style="font-family: calibri\;">Free Tax Planning check list and guide for all registered guests</span></span><br />\n<span style="font-size: 12pt\;"><span style="font-family: calibri\;">Drawing to be held for a $100 gift certificate for 2014 tax preparation fees</span></span><br />\n&nbsp\;<br />\n<span style="font-size: 12pt\;"><span style="font-family: calibri\;">PST Bookkeeping and Tax Services\, LLC</span></span><br />\n<span style="font-size: 12pt\;"><span style="font-family: calibri\;">(830)928-9642</span></span><br />\n&nbsp\;<br />\n<span style="font-size: 12pt\;"><span style="font-family: calibri\;">Sponsored by:&nbsp\; Kerrville Aviation</span></span><br />\n&nbsp\;
LOCATION:
UID:e.1327.4068
SEQUENCE:3
DTSTAMP:20260424T031430Z
URL:https://business.kerrvillechamber.biz/events/details/tax-planning-2014-open-house-12-02-2014-4068
END:VEVENT

END:VCALENDAR
