BEGIN:VCALENDAR
VERSION:2.0
PRODID:-//ChamberMaster//Event Calendar 2.0//EN
METHOD:PUBLISH
X-PUBLISHED-TTL:P3D
REFRESH-INTERVAL:P3D
CALSCALE:GREGORIAN
BEGIN:VEVENT
DTSTART:20130209T150000Z
DTEND:20130209T203000Z
X-MICROSOFT-CDO-ALLDAYEVENT:FALSE
SUMMARY:Texas Bluebird Society 2013 Season Kickoff in Kerrville
DESCRIPTION:Come Join Us for the Texas Bluebird Society 2013 Season Kickoff!\n\n	\n\n	Presentations will cover topics that Bluebirders\, new and experienced\, will find interesting and informative.\n\n	Keynote presentations :\n\n	Mark Klym\, Wildlife Biologist and Author with Texas Parks and Wildlife\n\n	Wildscaping Options for Bluebird Enthusiasts\n\n	Seasonal Movement of Bluebirds\n\n	John English\, Photographer and Texas Master Naturalist\n\n	Photographing Cavity-Nesting Birds\n\n	Other Presentations: Bluebird Basics\, House Sparrow Control\, NestWatching\, and more\n\n	FREE nestbox to members who pledge to "NestWatch" at least two nestboxes (submit observations to Cornell Lab of Ornithology through www.NestWatch.org)\n\n	New $15 Membership at this event includes FREE nestbox.\n\n	Renewing members can purchase a nestbox for $10.00.\n\n	Registration Costs and Deadlines:\n\n	Early Bird Registration: $20.00 includes Hot Lunch and ten door prize tickets. Deadline January 9\, 2013\n\n	Advanced Registration: $20.00 includes Hot Lunch and one door prize ticket. Deadline January 26\, 2013\n\n	At-the-Door Registration: $ 6.00\, No lunch and no door prize ticket\n\n	Friday Evening Social Dinner at Inn of the Hills Resort: 7:00 p.m. Shrimp-Peel Seafood Buffet: $16.95 plus tax and tip. Happy Hour 6:00 p.m. in Executive #1&2\, BYOB\, Deadline: January 26\, 2013. (No money collected in advance)\n\n	Host Lodging: Inn of the Hills\, $89.00 per night. Ask for Texas Bluebird Society rate. (877) 830-4796 www.innofthehills.com\n\n	RV Hookups: Guadalupe River RV Resort\, 2605 Junction Highway\, (830) 367-5676 www.guadaluperiverrvresort.com\n\n	\n\n	To Donate a Silent Auction Item: Jimmie & Benni Konvicka\, Auction@texasbluebirdsociety.org\, (254) 968-6663\, 1315 North Dale Ave\, Stephenville TX 76401-1604. If donating\, you can either mail auction items in advance or bring auction items with you. If you are bringing auction items\, (1) email what the item is and (2) its retail value so that we can make prepared bid sheets for each item. Donation information received after January 26 will not be printed in the Kickoff program.\n\n	Inn of the Hills Resort & Conference Center\, 1001 Junction Hwy\,
X-ALT-DESC;FMTTYPE=text/html:<p>\n	Come Join Us for the Texas Bluebird Society 2013 Season Kickoff!</p>\n<p>\n	<br />\n	Presentations will cover topics that Bluebirders\, new and experienced\, will find interesting and informative.</p>\n<p>\n	Keynote presentations :</p>\n<p>\n	Mark Klym\, Wildlife Biologist and Author with Texas Parks and Wildlife</p>\n<p>\n	Wildscaping Options for Bluebird Enthusiasts<br />\n	Seasonal Movement of Bluebirds</p>\n<p>\n	John English\, Photographer and Texas Master Naturalist</p>\n<p>\n	Photographing Cavity-Nesting Birds</p>\n<p>\n	Other Presentations: Bluebird Basics\, House Sparrow Control\, NestWatching\, and more</p>\n<p>\n	FREE nestbox to members who pledge to &quot\;NestWatch&quot\; at least two nestboxes (submit observations to Cornell Lab of Ornithology through www.NestWatch.org)</p>\n<p>\n	New $15 Membership at this event includes FREE nestbox.</p>\n<p>\n	Renewing members can purchase a nestbox for $10.00.</p>\n<p>\n	Registration Costs and Deadlines:</p>\n<p>\n	Early Bird Registration: $20.00 includes Hot Lunch and ten door prize tickets. Deadline January 9\, 2013<br />\n	Advanced Registration: $20.00 includes Hot Lunch and one door prize ticket. Deadline January 26\, 2013<br />\n	At-the-Door Registration: $ 6.00\, No lunch and no door prize ticket<br />\n	Friday Evening Social Dinner at Inn of the Hills Resort: 7:00 p.m. Shrimp-Peel Seafood Buffet: $16.95 plus tax and tip. Happy Hour 6:00 p.m. in Executive #1&amp\;2\, BYOB\, Deadline: January 26\, 2013. (No money collected in advance)<br />\n	Host Lodging: Inn of the Hills\, $89.00 per night. Ask for Texas Bluebird Society rate. (877) 830-4796 www.innofthehills.com<br />\n	RV Hookups: Guadalupe River RV Resort\, 2605 Junction Highway\, (830) 367-5676 www.guadaluperiverrvresort.com</p>\n<p>\n	<br />\n	To Donate a Silent Auction Item: Jimmie &amp\; Benni Konvicka\, <a href="mailto:Auction@texasbluebirdsociety.org">Auction@texasbluebirdsociety.org</a>\, (254) 968-6663\, 1315 North Dale Ave\, Stephenville TX 76401-1604. If donating\, you can either mail auction items in advance or bring auction items with you. If you are bringing auction items\, (1) email what the item is and (2) its retail value so that we can make prepared bid sheets for each item. Donation information received after January 26 will not be printed in the Kickoff program.</p>\n<p>\n	Inn of the Hills Resort &amp\; Conference Center\, 1001 Junction Hwy\,</p>\n
LOCATION:
UID:e.1327.463
SEQUENCE:3
DTSTAMP:20260420T021843Z
URL:https://business.kerrvillechamber.biz/events/details/texas-bluebird-society-2013-season-kickoff-in-kerrville-02-09-2013-463
END:VEVENT

END:VCALENDAR
