BEGIN:VCALENDAR
VERSION:2.0
PRODID:-//ChamberMaster//Event Calendar 2.0//EN
METHOD:PUBLISH
X-PUBLISHED-TTL:P3D
REFRESH-INTERVAL:P3D
CALSCALE:GREGORIAN
BEGIN:VEVENT
DTSTART:20130927T140000Z
DTEND:20130927T183000Z
X-MICROSOFT-CDO-ALLDAYEVENT:FALSE
SUMMARY:Texas Heritage Music Day
DESCRIPTION:Come and celebrate the Songs & stories\, the History & Heritage of Texas.\n\nA tribute to Jimmie Rodgers. Over 50 Performers and Demonstrations! This weekend brings students and the community together to experience the power of stories and songs in celebrating community and creating community.
X-ALT-DESC;FMTTYPE=text/html:<strong>Come and celebrate the Songs &amp\; stories\, the History &amp\; Heritage of Texas.<br />\nA tribute to Jimmie Rodgers. Over 50 Performers and Demonstrations!</strong> This weekend brings students and the community together to experience the power of stories and songs in celebrating community and creating community.
LOCATION:Robbins- Lewis Pavilion : Schreiner University\, Kerrville TX
UID:e.1327.347
SEQUENCE:3
DTSTAMP:20260419T163023Z
URL:https://business.kerrvillechamber.biz/events/details/texas-heritage-music-day-09-27-2013-347
END:VEVENT

END:VCALENDAR
