BEGIN:VCALENDAR
VERSION:2.0
PRODID:-//ChamberMaster//Event Calendar 2.0//EN
METHOD:PUBLISH
X-PUBLISHED-TTL:P3D
REFRESH-INTERVAL:P3D
CALSCALE:GREGORIAN
BEGIN:VEVENT
DTSTART:20130706T160000Z
DTEND:20130707T000000Z
X-MICROSOFT-CDO-ALLDAYEVENT:FALSE
SUMMARY:Texas Hill Country Wine & Brew Festival
DESCRIPTION:Wineries* Microbreweries* Live Music* Specialty Foods* Fun Attractions\n\n	 \n\n	Headliner Bonnie Bishop\, Grammy Nominated Singer/Songwriter from Nashville
X-ALT-DESC;FMTTYPE=text/html:<p>\n	Wineries* Microbreweries* Live Music* Specialty Foods* Fun Attractions<br />\n	&nbsp\;</p>\n<p>\n	Headliner Bonnie Bishop\, Grammy Nominated Singer/Songwriter from Nashville</p>\n
LOCATION:Lake Comanche Trace
UID:e.1327.609
SEQUENCE:3
DTSTAMP:20260419T201025Z
URL:https://business.kerrvillechamber.biz/events/details/texas-hill-country-wine-brew-festival-07-06-2013-609
END:VEVENT

END:VCALENDAR
