BEGIN:VCALENDAR
VERSION:2.0
PRODID:-//ChamberMaster//Event Calendar 2.0//EN
METHOD:PUBLISH
X-PUBLISHED-TTL:P3D
REFRESH-INTERVAL:P3D
CALSCALE:GREGORIAN
BEGIN:VEVENT
DTSTART;VALUE=DATE:20130524
DTEND;VALUE=DATE:20130527
TRANSP:TRANSPARENT
X-MICROSOFT-CDO-ALLDAYEVENT:TRUE
SUMMARY:Texas State Arts & Crafts Fair
DESCRIPTION:Memorial Day Weekend will mark the 42nd anniversary of the Official Texas State Arts & Crafts Fair and the grounds are sure to be packed with attendees excited to view and purchase some of the best art created in the State of Texas.\n\nThe exhibited art and educational programs are only part of the experience: demonstrators will be packed into the park to give attendees a chance to view artists in action. In some instances attendees will even have the opportunity to get hands-on experience! For example\, the Hill Country Turners will be on-site using a variety of lathes to craft pieces\, from wooden tops to wooden cowboy hats\; attendees will get the chance to try out a pedal lathe and turn their own hand-crafted wooden top!\n\nAs usual\, in addition to the visual art\, attendees will be able to take advantage of the Fair's beautiful grounds to relax under the pavilion or the amphitheater and listen to the constant musical entertainment and enjoy a snack from the food court.
X-ALT-DESC;FMTTYPE=text/html:<span style="font-size: 9pt\;"><span style="font-family: arial\,sans-serif\;"><span style="color: rgb(34\, 34\, 34)\;">Memorial Day Weekend will mark the 42nd anniversary of the Official Texas State Arts &amp\; Crafts Fair and the grounds are sure to be packed with attendees excited to view and purchase some of the best art created in the State of Texas.</span></span></span><br />\n<span style="font-size: 9pt\;"><span style="font-family: arial\,sans-serif\;"><span style="color: rgb(34\, 34\, 34)\;">The exhibited art and educational programs are only part of the experience: demonstrators will be packed into the park to give attendees a chance to view artists in action. In some instances attendees will even have the opportunity to get hands-on experience! For example\, the Hill Country Turners will be on-site using a variety of lathes to craft pieces\, from wooden tops to wooden cowboy hats\; attendees will get the chance to try out a pedal lathe and turn their own hand-crafted wooden top!</span></span></span><br />\n<span style="font-size: 9pt\;"><span style="font-family: arial\,sans-serif\;"><span style="color: rgb(34\, 34\, 34)\;">As usual\, in addition to the visual art\, attendees will be able to take advantage of the Fair&rsquo\;s beautiful grounds to relax under the pavilion or the amphitheater and listen to the constant musical entertainment and enjoy a snack from the food court.</span></span></span><br />\n
LOCATION:4000 Riverside Dr. East at the River Star Arts & Event Park in Kerrville\, Texas.
UID:e.1327.628
SEQUENCE:3
DTSTAMP:20260419T213218Z
URL:https://business.kerrvillechamber.biz/events/details/texas-state-arts-crafts-fair-05-24-2013-628
END:VEVENT

END:VCALENDAR
