BEGIN:VCALENDAR
VERSION:2.0
PRODID:-//ChamberMaster//Event Calendar 2.0//EN
METHOD:PUBLISH
X-PUBLISHED-TTL:P3D
REFRESH-INTERVAL:P3D
CALSCALE:GREGORIAN
BEGIN:VEVENT
DTSTART:20251127T060000Z
DTEND:20251127T190000Z
X-MICROSOFT-CDO-ALLDAYEVENT:FALSE
SUMMARY:Thanksgiving Feast at the Salvation Army Kroc Center
DESCRIPTION:Join us at the Salvation Army Kerrville Kroc Center this Thanksgiving for a feast graciously provided by the Chuck Wagon Gang of Odessa. This is event is free to all.
X-ALT-DESC;FMTTYPE=text/html:Join us at the Salvation Army Kerrville Kroc Center this Thanksgiving for a feast graciously provided by the Chuck Wagon Gang of Odessa. This is event is free to all.
LOCATION:
UID:e.1327.29240
SEQUENCE:3
DTSTAMP:20260423T164850Z
URL:https://business.kerrvillechamber.biz/events/details/thanksgiving-feast-at-the-salvation-army-kroc-center-29240
END:VEVENT

END:VCALENDAR
