BEGIN:VCALENDAR
VERSION:2.0
PRODID:-//ChamberMaster//Event Calendar 2.0//EN
METHOD:PUBLISH
X-PUBLISHED-TTL:P3D
REFRESH-INTERVAL:P3D
CALSCALE:GREGORIAN
BEGIN:VEVENT
DTSTART:20250706T000000Z
DTEND:20250706T030000Z
X-MICROSOFT-CDO-ALLDAYEVENT:FALSE
SUMMARY:The Droptines
DESCRIPTION:Doors and bar   7:00 PM\n\nOpening act   7:30 PM\n\nThe Droptines   8:30 PM\n\n\nThere isn't a better act for Fourth of July weekend at Arcadia. The Droptines are an alternative country band born in Concan\, Texas. Established in 2019 by frontman/songwriter/musician\, Conner Arthur\, this outfit blends a range of genres\, while tethering each song together with a vernacular specific to the Texas Hill Country.
X-ALT-DESC;FMTTYPE=text/html:<p style="text-align:center">Doors and bar &mdash\; 7:00 PM</p>\n\n<p style="text-align:center">Opening act &mdash\; 7:30 PM</p>\n\n<p style="text-align:center">The Droptines &mdash\; 8:30 PM</p>\n\n<hr />\n<p style="text-align:center">There isn&rsquo\;t a better act for Fourth of July weekend at Arcadia. The Droptines&nbsp\;are an alternative country band born in Concan\, Texas. Established in 2019 by frontman/songwriter/musician\, Conner Arthur\,&nbsp\;this outfit blends&nbsp\;a range of genres\, while tethering each song together with a&nbsp\;vernacular specific to the Texas Hill Country.&nbsp\;</p>\n
LOCATION:The Arcadia Live 717 Water Street Kerrville Tx 78028
UID:e.1327.29152
SEQUENCE:3
DTSTAMP:20260423T231913Z
URL:https://business.kerrvillechamber.biz/events/details/the-droptines-29152
END:VEVENT

END:VCALENDAR
