BEGIN:VCALENDAR
VERSION:2.0
PRODID:-//ChamberMaster//Event Calendar 2.0//EN
METHOD:PUBLISH
X-PUBLISHED-TTL:P3D
REFRESH-INTERVAL:P3D
CALSCALE:GREGORIAN
BEGIN:VEVENT
DTSTART:20251003T150000Z
DTEND:20251031T210000Z
X-MICROSOFT-CDO-ALLDAYEVENT:FALSE
SUMMARY:The Great River Oaks Courts Pumpkin Patch
DESCRIPTION:Every Friday & Saturday in October from 10 AM to 4 PM. Bring the family and make some memories painting pumpkins\, riding a train\, getting lost in our hay maze\, and feeding the animals in our petting zoo. We will have food vendors and entertainers as well! Sure to be a fun-filled day for the whole family!
X-ALT-DESC;FMTTYPE=text/html:<span style="color:rgb(0\, 0\, 0)">Every Friday &amp\; Saturday in October from 10 AM to 4 PM.</span><span style="color:rgb(0\, 0\, 0)">&nbsp\;</span><span style="color:rgb(0\, 0\, 0)">Bring the family and make some memories painting pumpkins\, riding a train\, getting lost in our hay maze\, and feeding the animals in our petting zoo.</span><span style="color:rgb(0\, 0\, 0)">&nbsp\;</span><span style="color:rgb(0\, 0\, 0)">We will have food vendors and entertainers as well! Sure to be a fun-filled day for the whole family!</span>
LOCATION:River Oaks Courts 14349 Highway 16 N Medina\, TX 78055
UID:e.1327.29201
SEQUENCE:3
DTSTAMP:20260423T164423Z
URL:https://business.kerrvillechamber.biz/events/details/the-great-river-oaks-courts-pumpkin-patch-29201
END:VEVENT

END:VCALENDAR
