BEGIN:VCALENDAR
VERSION:2.0
PRODID:-//ChamberMaster//Event Calendar 2.0//EN
METHOD:PUBLISH
X-PUBLISHED-TTL:P3D
REFRESH-INTERVAL:P3D
CALSCALE:GREGORIAN
BEGIN:VEVENT
DTSTART:20151001T230000Z
DTEND:20151002T020000Z
X-MICROSOFT-CDO-ALLDAYEVENT:FALSE
SUMMARY:The Stars of the Hill Country
DESCRIPTION:Kerrville Area Chamber of Commerce 93rd Annual Banquet & Award Dinner.\n\nThe Stars of the Hill Country. Major Sponsor Pioneer Bank\,  Social Hour Beer & Wine Compliments of Ben E Keith\n\nAttire:  Western Wear Chic
X-ALT-DESC;FMTTYPE=text/html:Kerrville Area Chamber of Commerce 93rd Annual Banquet &amp\; Award Dinner.<br />\nThe Stars of the Hill Country.&nbsp\;Major Sponsor Pioneer Bank\, &nbsp\;Social Hour Beer &amp\; Wine Compliments of Ben E Keith<br />\nAttire:&nbsp\; Western Wear Chic
LOCATION:Inn of the Hills Resort and Conference Center
UID:e.1327.6680
SEQUENCE:3
DTSTAMP:20260423T065542Z
URL:https://business.kerrvillechamber.biz/events/details/the-stars-of-the-hill-country-10-01-2015-6680
END:VEVENT

END:VCALENDAR
