BEGIN:VCALENDAR
VERSION:2.0
PRODID:-//ChamberMaster//Event Calendar 2.0//EN
METHOD:PUBLISH
X-PUBLISHED-TTL:P3D
REFRESH-INTERVAL:P3D
CALSCALE:GREGORIAN
BEGIN:VEVENT
DTSTART:20250928T000000Z
DTEND:20250928T030000Z
X-MICROSOFT-CDO-ALLDAYEVENT:FALSE
SUMMARY:The Texases
DESCRIPTION:Playing your favorite classic country hits from '66 to '96\, from Merle and Willie to George and Garth\, The Texases are rarin' to transport you back in time to the days of guitars\, Cadillacs\, and hillbilly music. So whether you're an urban cowboy or you've been country since country wasn't cool\, look no further to satisfy your (George) jonesin' for classic country covers than those sons of the Lone Star State\, The Texases!\n\n \n\nDoors and bar   7:00 PM\n\nMusic  8:00 PM\n\n \n\nArcadia Live cannot provide refunds and all ticket sales are final.
X-ALT-DESC;FMTTYPE=text/html:<p style="margin-left:0px\; margin-right:0px\; text-align:center">Playing your favorite classic country hits from &rsquo\;66 to &rsquo\;96\, from Merle and Willie to George and Garth\, The Texases are rarin&rsquo\; to transport you back in time to the days of guitars\, Cadillacs\, and hillbilly music. So whether you&rsquo\;re an urban cowboy or you&rsquo\;ve been country since country wasn&rsquo\;t cool\, look no further to satisfy your (George) jonesin&rsquo\; for classic country covers than those sons of the Lone Star State\, The Texases!</p>\n\n<p style="margin-left:0px\; margin-right:0px\; text-align:center">&nbsp\;</p>\n\n<p style="margin-left:0px\; margin-right:0px\; text-align:center"><strong>Doors and bar &mdash\; 7:00 PM</strong></p>\n\n<p style="margin-left:0px\; margin-right:0px\; text-align:center"><strong>Music &mdash\;8:00 PM</strong></p>\n\n<p style="margin-left:0px\; margin-right:0px\; text-align:center">&nbsp\;</p>\n\n<p style="margin-left:0px\; margin-right:0px\; text-align:center"><strong>Arcadia Live cannot provide refunds and all ticket sales are final.</strong></p>\n
LOCATION:The Arcadia Live Theatre 717 Water Street Kerrville Tx 78028
UID:e.1327.29191
SEQUENCE:3
DTSTAMP:20260423T194850Z
URL:https://business.kerrvillechamber.biz/events/details/the-texases-29191
END:VEVENT

END:VCALENDAR
