BEGIN:VCALENDAR
VERSION:2.0
PRODID:-//ChamberMaster//Event Calendar 2.0//EN
METHOD:PUBLISH
X-PUBLISHED-TTL:P3D
REFRESH-INTERVAL:P3D
CALSCALE:GREGORIAN
BEGIN:VEVENT
DTSTART:20130514T150000Z
DTEND:20130531T210000Z
X-MICROSOFT-CDO-ALLDAYEVENT:FALSE
SUMMARY:Thirty Years of Western Splendor Exhibition
DESCRIPTION:Thirty Years of Western Splendor Exhibition.  Featuring artwork by local and nationally known artists.
X-ALT-DESC;FMTTYPE=text/html:Thirty Years of Western Splendor Exhibition.&nbsp\; Featuring artwork by local and nationally known artists.
LOCATION:The Museum of Western Art\, 1550 Bandera Hwy.\, Kerrville\, Texas
UID:e.1327.919
SEQUENCE:3
DTSTAMP:20260419T213803Z
URL:https://business.kerrvillechamber.biz/events/details/thirty-years-of-western-splendor-exhibition-05-14-2013-919
END:VEVENT

END:VCALENDAR
