BEGIN:VCALENDAR
VERSION:2.0
PRODID:-//ChamberMaster//Event Calendar 2.0//EN
METHOD:PUBLISH
X-PUBLISHED-TTL:P3D
REFRESH-INTERVAL:P3D
CALSCALE:GREGORIAN
BEGIN:VEVENT
DTSTART:20251031T223000Z
DTEND:20251101T000000Z
X-MICROSOFT-CDO-ALLDAYEVENT:FALSE
SUMMARY:Trunk or Treat at Calvary Temple Church
DESCRIPTION:Join Calvary Temple Church on HALLOWEEN for a fun Trunk or Treat!! Its a free community event and everyone is invited!!
X-ALT-DESC;FMTTYPE=text/html:Join Calvary Temple Church on HALLOWEEN for a fun Trunk or Treat!! Its a free community event and everyone is invited!!
LOCATION:Calvary Temple Church 3000 Loop 534 Kerrville TX 78028
UID:e.1327.29107
SEQUENCE:3
DTSTAMP:20260423T164936Z
URL:https://business.kerrvillechamber.biz/events/details/trunk-or-treat-at-calvary-temple-church-29107
END:VEVENT

END:VCALENDAR
