BEGIN:VCALENDAR
VERSION:2.0
PRODID:-//ChamberMaster//Event Calendar 2.0//EN
METHOD:PUBLISH
X-PUBLISHED-TTL:P3D
REFRESH-INTERVAL:P3D
CALSCALE:GREGORIAN
BEGIN:VEVENT
DTSTART;VALUE=DATE:20121231
DTEND;VALUE=DATE:20130101
TRANSP:TRANSPARENT
X-MICROSOFT-CDO-ALLDAYEVENT:TRUE
SUMMARY:"Turn Back the Clock" New Year's Eve with the Fabulous Sentimental Journey Orchestra
DESCRIPTION:Kerrville's Inn of the Hills Resort and Conference Center invites you to "Turn Back the Clock" New Year's Eve with the Fabulous Sentimental Journey Orchestra under the direction of Ted Conerly. Join them in the Grand Ballroom of Kerrville's Inn of the Hills Resort and Conference Center where we'll "turn back the clock" to a more elegant era to ring in the New Year with the "greatest music this side of Heaven". You'll feel as though you're "dancing with the stars" as you rumba\, fox trot\, swing\, waltz\, tango\, and cha-cha to the classic arrangements of Glenn Miller\, Artie Shaw\, Benny Goodman\, Harry  James\, the Dorseys and more\, as well as favorite SJO specialties. Besides an evening of Great Music & Dancing\, your reservations include reserved seating at candlelit\, linen-draped round tables\, complimentary champagne toast\, party favors\, and our delicious midnight breakfast buffet. Cash Bars. Coat & tie are requested for gentlemen\, and black tie is optional.
X-ALT-DESC;FMTTYPE=text/html:Kerrville&#39\;s Inn of the Hills Resort and Conference Center invites you to &quot\;Turn Back the Clock&quot\; New Year&#39\;s Eve with the Fabulous Sentimental Journey Orchestra under the direction of Ted Conerly. Join them in the Grand Ballroom of Kerrville&#39\;s Inn of the Hills Resort and Conference Center where we&#39\;ll&nbsp\;&quot\;turn back the clock&quot\; to a more elegant era to ring in the New Year with the &quot\;greatest music this side of Heaven&quot\;. You&#39\;ll feel as though you&#39\;re &quot\;dancing with the stars&quot\; as you rumba\, fox trot\, swing\, waltz\, tango\, and cha-cha to the classic arrangements of Glenn Miller\, Artie Shaw\, Benny Goodman\, Harry&nbsp\; James\, the Dorseys and more\, as well as favorite SJO specialties. Besides an evening of Great Music&nbsp\;&amp\; Dancing\, your reservations include reserved seating at candlelit\, linen-draped round tables\, complimentary champagne toast\, party favors\, and our delicious midnight breakfast buffet. Cash Bars. Coat &amp\; tie are requested for gentlemen\, and black tie is optional. 
LOCATION:
UID:e.1327.410
SEQUENCE:3
DTSTAMP:20260420T055700Z
URL:https://business.kerrvillechamber.biz/events/details/turn-back-the-clock-new-year-s-eve-with-the-fabulous-sentimental-journey-orchestra-12-31-2012-410
END:VEVENT

END:VCALENDAR
