BEGIN:VCALENDAR
VERSION:2.0
PRODID:-//ChamberMaster//Event Calendar 2.0//EN
METHOD:PUBLISH
X-PUBLISHED-TTL:P3D
REFRESH-INTERVAL:P3D
CALSCALE:GREGORIAN
BEGIN:VEVENT
DTSTART:20251116T180000Z
DTEND:20251117T000000Z
X-MICROSOFT-CDO-ALLDAYEVENT:FALSE
SUMMARY:Turtle Creek Vineyard Market Days
DESCRIPTION:Market Days at the Vineyard:\n\nJoin us for Market Days at Turtle Creek Vineyard   a relaxing\, fun-filled family day celebrating local vendors\, musicians\, and food trucks in the Texas Hill Country! This free\, come-and-go event has something for everyone!
X-ALT-DESC;FMTTYPE=text/html:Market Days at the Vineyard:<br />\nJoin us for Market Days at Turtle Creek Vineyard &mdash\; a relaxing\, fun-filled family day celebrating local vendors\, musicians\, and food trucks in the Texas Hill Country! This free\, come-and-go event has something for everyone!
LOCATION:Turtle Creek Vineyard 183 Fall Creek Road Kerrville\, TX 78028
UID:e.1327.29204
SEQUENCE:3
DTSTAMP:20260423T164747Z
URL:https://business.kerrvillechamber.biz/events/details/turtle-creek-vineyard-market-days-11-16-2025-29204
END:VEVENT

END:VCALENDAR
