BEGIN:VCALENDAR
VERSION:2.0
PRODID:-//ChamberMaster//Event Calendar 2.0//EN
METHOD:PUBLISH
X-PUBLISHED-TTL:P3D
REFRESH-INTERVAL:P3D
CALSCALE:GREGORIAN
BEGIN:VEVENT
DTSTART:20130727T130000Z
DTEND:20130727T160000Z
X-MICROSOFT-CDO-ALLDAYEVENT:FALSE
SUMMARY:UGRA River Clean Up
DESCRIPTION:UGRA Annual River Clean Up and Ecological Fair\nRefreshments\, awards\, and raffle prizes.  First 200 Volunteers will receive an official 10th Annual River Clean Up T-shirt.
X-ALT-DESC;FMTTYPE=text/html:UGRA Annual River Clean Up and Ecological Fair<BR>Refreshments\, awards\, and raffle prizes.&nbsp\; First 200 Volunteers will receive an official 10th Annual River Clean Up T-shirt.
LOCATION:Flat Rock Park in Kerrville
UID:e.1327.964
SEQUENCE:3
DTSTAMP:20260419T193343Z
URL:https://business.kerrvillechamber.biz/events/details/ugra-river-clean-up-07-27-2013-964
END:VEVENT

END:VCALENDAR
